BEGIN:VCALENDAR
VERSION:2.0
PRODID:-//Bear Lake Township of Kalkaska County, Michigan - ECPv6.15.20//NONSGML v1.0//EN
CALSCALE:GREGORIAN
METHOD:PUBLISH
X-ORIGINAL-URL:https://www.bearlaketownship.org
X-WR-CALDESC:Events for Bear Lake Township of Kalkaska County, Michigan
REFRESH-INTERVAL;VALUE=DURATION:PT1H
X-Robots-Tag:noindex
X-PUBLISHED-TTL:PT1H
BEGIN:VTIMEZONE
TZID:America/Detroit
BEGIN:DAYLIGHT
TZOFFSETFROM:-0500
TZOFFSETTO:-0400
TZNAME:EDT
DTSTART:20230312T070000
END:DAYLIGHT
BEGIN:STANDARD
TZOFFSETFROM:-0400
TZOFFSETTO:-0500
TZNAME:EST
DTSTART:20231105T060000
END:STANDARD
BEGIN:DAYLIGHT
TZOFFSETFROM:-0500
TZOFFSETTO:-0400
TZNAME:EDT
DTSTART:20240310T070000
END:DAYLIGHT
BEGIN:STANDARD
TZOFFSETFROM:-0400
TZOFFSETTO:-0500
TZNAME:EST
DTSTART:20241103T060000
END:STANDARD
BEGIN:DAYLIGHT
TZOFFSETFROM:-0500
TZOFFSETTO:-0400
TZNAME:EDT
DTSTART:20250309T070000
END:DAYLIGHT
BEGIN:STANDARD
TZOFFSETFROM:-0400
TZOFFSETTO:-0500
TZNAME:EST
DTSTART:20251102T060000
END:STANDARD
END:VTIMEZONE
BEGIN:VEVENT
DTSTART;TZID=America/Detroit:20240514T160000
DTEND;TZID=America/Detroit:20240514T170000
DTSTAMP:20260426T004033
CREATED:20240216T234221Z
LAST-MODIFIED:20240216T234221Z
UID:4495-1715702400-1715706000@www.bearlaketownship.org
SUMMARY:Bear Lake Township Board Meeting
DESCRIPTION:
URL:https://www.bearlaketownship.org/event/bear-lake-township-board-meeting-13
LOCATION:Bear Lake Township Community Center\, 198 E Bear Lake Rd SE\, Kalkaska
END:VEVENT
BEGIN:VEVENT
DTSTART;TZID=America/Detroit:20240527T083000
DTEND;TZID=America/Detroit:20240527T100000
DTSTAMP:20260426T004033
CREATED:20240502T211030Z
LAST-MODIFIED:20240515T152604Z
UID:4656-1716798600-1716804000@www.bearlaketownship.org
SUMMARY:Bear Lake Association Annual Meeting
DESCRIPTION:Welcome to another summer at beautiful Bear Lake.  The Bear Lake Association annual meeting will be on Monday\, May 27th at 9 a.m. at the Bear Lake Township Hall.  The draft agenda is attached. Also attached for your information is the PLM schedule for the lake survey and treatment. \nCome early at 8:30 a.m. to greet your neighbors and get a cup of coffee or juice\, and a snack\, or stay after for a visit. \nBoth Sam Rahaim and Brian Bower have terms that expire this year. Sam is willing to serve another term\, however\, Brian would like to step aside and allow another person to get involved. Please consider volunteering to be on the board.  We have 1 or 2 in-person meetings during the year and the rest are either by Zoom or by phone.  Contact Sam Rahaim if you would be willing to volunteer.  You may also direct any questions or comments to Sam at bearlakekalkaska@gmail.com. \nIf you have updated contact information\, e-mail\, or phone number\, please provide them to Sam at bearlakekalkaska@gmail.com. \nSee you on the 27th! \nCheryl O’Brien\, Secretary \nBear Lake Association – Kalkaska \nwww.bearlakeassoc.com \n 
URL:https://www.bearlaketownship.org/event/bear-lake-association-annual-meeting
LOCATION:Bear Lake Township Community Center\, 198 E Bear Lake Rd SE\, Kalkaska
END:VEVENT
END:VCALENDAR