BEGIN:VCALENDAR
VERSION:2.0
PRODID:-//Bear Lake Township of Kalkaska County, Michigan - ECPv6.15.20//NONSGML v1.0//EN
CALSCALE:GREGORIAN
METHOD:PUBLISH
X-WR-CALNAME:Bear Lake Township of Kalkaska County, Michigan
X-ORIGINAL-URL:https://www.bearlaketownship.org
X-WR-CALDESC:Events for Bear Lake Township of Kalkaska County, Michigan
REFRESH-INTERVAL;VALUE=DURATION:PT1H
X-Robots-Tag:noindex
X-PUBLISHED-TTL:PT1H
BEGIN:VTIMEZONE
TZID:America/Detroit
BEGIN:DAYLIGHT
TZOFFSETFROM:-0500
TZOFFSETTO:-0400
TZNAME:EDT
DTSTART:20230312T070000
END:DAYLIGHT
BEGIN:STANDARD
TZOFFSETFROM:-0400
TZOFFSETTO:-0500
TZNAME:EST
DTSTART:20231105T060000
END:STANDARD
BEGIN:DAYLIGHT
TZOFFSETFROM:-0500
TZOFFSETTO:-0400
TZNAME:EDT
DTSTART:20240310T070000
END:DAYLIGHT
BEGIN:STANDARD
TZOFFSETFROM:-0400
TZOFFSETTO:-0500
TZNAME:EST
DTSTART:20241103T060000
END:STANDARD
BEGIN:DAYLIGHT
TZOFFSETFROM:-0500
TZOFFSETTO:-0400
TZNAME:EDT
DTSTART:20250309T070000
END:DAYLIGHT
BEGIN:STANDARD
TZOFFSETFROM:-0400
TZOFFSETTO:-0500
TZNAME:EST
DTSTART:20251102T060000
END:STANDARD
END:VTIMEZONE
BEGIN:VEVENT
DTSTART;TZID=America/Detroit:20240709T160000
DTEND;TZID=America/Detroit:20240709T170000
DTSTAMP:20260425T220534
CREATED:20240217T030003Z
LAST-MODIFIED:20240217T030003Z
UID:4499-1720540800-1720544400@www.bearlaketownship.org
SUMMARY:Bear Lake Township Board Meeting
DESCRIPTION:
URL:https://www.bearlaketownship.org/event/bear-lake-township-board-meeting-15
LOCATION:Bear Lake Township Community Center\, 198 E Bear Lake Rd SE\, Kalkaska
END:VEVENT
BEGIN:VEVENT
DTSTART;TZID=America/Detroit:20240713T090000
DTEND;TZID=America/Detroit:20240713T100000
DTSTAMP:20260425T220534
CREATED:20240607T234836Z
LAST-MODIFIED:20240607T234836Z
UID:4706-1720861200-1720864800@www.bearlaketownship.org
SUMMARY:M72 Adopt-A-Highway Cleanup Day
DESCRIPTION:We could really use volunteers. \nWe clean both the north and south sides of M72 from Lake Valley Road to Sunset Trail. The more we get the less area each of us has to cover. \nWe meet at the Community Center at 9 am for assignments\, bags and vests. \nPlease Help!
URL:https://www.bearlaketownship.org/event/m72-adopt-a-highway-cleanup-day-5
LOCATION:Bear Lake Township Community Center\, 198 E Bear Lake Rd SE\, Kalkaska
END:VEVENT
BEGIN:VEVENT
DTSTART;TZID=America/Detroit:20240713T090000
DTEND;TZID=America/Detroit:20240713T130000
DTSTAMP:20260425T220534
CREATED:20240607T004219Z
LAST-MODIFIED:20240607T004219Z
UID:4704-1720861200-1720875600@www.bearlaketownship.org
SUMMARY:Tire Recycling Collection
DESCRIPTION:Bring us your tires! We’ve put in some overtime to make sure we can continue on the annual tire collection and recycling event that the former Kalkaska County Recycling Center hosted. \nWe’ve reserved two semi-trailers for the event and hope we can fill them both. There are a few stipulations though to make the event a success: \n\n\nFREE to Kalkaska County residents (proof of residency is required). \n\n\nREGISTRATION is recommended to help ensure a smooth traffic flow of the event: RSVP list will go live one month prior to the event. \n\n\nLimit of 10 tires per household. \n\n\nOnly regular car and truck tires will be accepted. \n\n\nNO semi-trailers or tractor tires. \n\n\nNO tires larger than 4 feet tall or 12 inches wide. \n\n\nVolunteer help to load tires will be greatly appreciated! \n\n\nThe event will take place at the former Recycling Center on Saturday\, July 13\, 2024 from 9am to 1pm.
URL:https://www.bearlaketownship.org/event/tire-recycling-collection-4
LOCATION:Recycle Center\, 904 Island Lake Rd
END:VEVENT
BEGIN:VEVENT
DTSTART;TZID=America/Detroit:20240727T070000
DTEND;TZID=America/Detroit:20240727T150000
DTSTAMP:20260425T220534
CREATED:20240502T194011Z
LAST-MODIFIED:20240502T194011Z
UID:4612-1722063600-1722092400@www.bearlaketownship.org
SUMMARY:Early Voting for Primary Election
DESCRIPTION:
URL:https://www.bearlaketownship.org/event/early-voting-for-primary-election
LOCATION:Bear Lake Township Business Office
END:VEVENT
BEGIN:VEVENT
DTSTART;TZID=America/Detroit:20240727T090000
DTEND;TZID=America/Detroit:20240727T130000
DTSTAMP:20260425T220534
CREATED:20240607T003852Z
LAST-MODIFIED:20240607T003852Z
UID:4701-1722070800-1722085200@www.bearlaketownship.org
SUMMARY:Household Hazardous Waste Collection
DESCRIPTION:The event is limited to Kalkaska County Residents only (proof of residency is required via driver’s license\, water bill\, tax bill\, etc). Appointments are highly encouraged for the 2024 collection event. This is to streamline the process of drop-off and to ensure an even flow of traffic which will allow us to accept more items. \nAppointments can be made online (button below) or by calling the office at (231) 258-3307. Please limit one time slot per household. \nAccepted items: Fertilizer\, pesticides\, cleaning solvents\, automotive fluids\, oil/latex/lead paint\, turpentine\, mercury\, nail polish/remover\, pool chemicals\, batteries\, and MUCH MORE. You name the chemical\, our vendor will take it! Please no electronics. \nDrop off details:  \n\n\nDrive up to the main entrance of the Kalkaska Middle School\, this entrance is off of West Kalkaska Street and is a circle drive. \n\n\nStaff will greet you and check you in. \n\n\nIf you have a large number of items\, a donation is greatly appreciated. It helps us be able to host a bigger and better collection event in the future and offset the costs of the increased materials being brought in. \n\n\nPlease have items in the trunk or bed of a truck and easily accessible. Sometimes items in cardboard boxes make this process easier. \n\n\nIF you have mercury\, please contact us about how to transport it!! It should be in a sealed plastic or glass container\, not just in a cardboard box. It can be impossible to contain if the container is broken. \n\n\nStaff and volunteers will take the items from your vehicle. \n\n\nThen you are free to go about the rest of your day knowing the materials you brought will be disposed of properly and not leak into or beautiful rivers and forests. \n\n\nPlease contact our office if you have any questions about the event\, (231) 258-3307. \n 
URL:https://www.bearlaketownship.org/event/household-hazardous-waste-collection-5
LOCATION:Kalkaska Middle School\, Back parking lot off Dresdan St
END:VEVENT
BEGIN:VEVENT
DTSTART;TZID=America/Detroit:20240728T070000
DTEND;TZID=America/Detroit:20240728T150000
DTSTAMP:20260425T220534
CREATED:20240502T194052Z
LAST-MODIFIED:20240502T194052Z
UID:4614-1722150000-1722178800@www.bearlaketownship.org
SUMMARY:Early Voting for Primary Election
DESCRIPTION:
URL:https://www.bearlaketownship.org/event/early-voting-for-primary-election-2
LOCATION:Bear Lake Township Business Office
END:VEVENT
BEGIN:VEVENT
DTSTART;TZID=America/Detroit:20240729T070000
DTEND;TZID=America/Detroit:20240729T150000
DTSTAMP:20260425T220534
CREATED:20240502T194131Z
LAST-MODIFIED:20240502T194131Z
UID:4616-1722236400-1722265200@www.bearlaketownship.org
SUMMARY:Early Voting for Primary Election
DESCRIPTION:
URL:https://www.bearlaketownship.org/event/early-voting-for-primary-election-3
LOCATION:Bear Lake Township Business Office
END:VEVENT
BEGIN:VEVENT
DTSTART;TZID=America/Detroit:20240730T070000
DTEND;TZID=America/Detroit:20240730T150000
DTSTAMP:20260425T220534
CREATED:20240502T194207Z
LAST-MODIFIED:20240502T194207Z
UID:4618-1722322800-1722351600@www.bearlaketownship.org
SUMMARY:Early Voting for Primary Election
DESCRIPTION:
URL:https://www.bearlaketownship.org/event/early-voting-for-primary-election-4
LOCATION:Bear Lake Township Business Office
END:VEVENT
BEGIN:VEVENT
DTSTART;TZID=America/Detroit:20240731T070000
DTEND;TZID=America/Detroit:20240731T150000
DTSTAMP:20260425T220534
CREATED:20240502T194316Z
LAST-MODIFIED:20240502T194316Z
UID:4620-1722409200-1722438000@www.bearlaketownship.org
SUMMARY:Early Voting for Primary Election
DESCRIPTION:
URL:https://www.bearlaketownship.org/event/early-voting-for-primary-election-5
LOCATION:Bear Lake Township Business Office
END:VEVENT
END:VCALENDAR