BEGIN:VCALENDAR
VERSION:2.0
PRODID:-//Bear Lake Township of Kalkaska County, Michigan - ECPv6.15.20//NONSGML v1.0//EN
CALSCALE:GREGORIAN
METHOD:PUBLISH
X-WR-CALNAME:Bear Lake Township of Kalkaska County, Michigan
X-ORIGINAL-URL:https://www.bearlaketownship.org
X-WR-CALDESC:Events for Bear Lake Township of Kalkaska County, Michigan
REFRESH-INTERVAL;VALUE=DURATION:PT1H
X-Robots-Tag:noindex
X-PUBLISHED-TTL:PT1H
BEGIN:VTIMEZONE
TZID:America/Detroit
BEGIN:DAYLIGHT
TZOFFSETFROM:-0500
TZOFFSETTO:-0400
TZNAME:EDT
DTSTART:20230312T070000
END:DAYLIGHT
BEGIN:STANDARD
TZOFFSETFROM:-0400
TZOFFSETTO:-0500
TZNAME:EST
DTSTART:20231105T060000
END:STANDARD
BEGIN:DAYLIGHT
TZOFFSETFROM:-0500
TZOFFSETTO:-0400
TZNAME:EDT
DTSTART:20240310T070000
END:DAYLIGHT
BEGIN:STANDARD
TZOFFSETFROM:-0400
TZOFFSETTO:-0500
TZNAME:EST
DTSTART:20241103T060000
END:STANDARD
BEGIN:DAYLIGHT
TZOFFSETFROM:-0500
TZOFFSETTO:-0400
TZNAME:EDT
DTSTART:20250309T070000
END:DAYLIGHT
BEGIN:STANDARD
TZOFFSETFROM:-0400
TZOFFSETTO:-0500
TZNAME:EST
DTSTART:20251102T060000
END:STANDARD
END:VTIMEZONE
BEGIN:VEVENT
DTSTART;TZID=America/Detroit:20240801T070000
DTEND;TZID=America/Detroit:20240801T150000
DTSTAMP:20260425T203612
CREATED:20240502T194348Z
LAST-MODIFIED:20240502T194531Z
UID:4622-1722495600-1722524400@www.bearlaketownship.org
SUMMARY:Early Voting for Primary Election
DESCRIPTION:
URL:https://www.bearlaketownship.org/event/early-voting-for-primary-election-6
LOCATION:Bear Lake Township Business Office
END:VEVENT
BEGIN:VEVENT
DTSTART;TZID=America/Detroit:20240802T070000
DTEND;TZID=America/Detroit:20240802T150000
DTSTAMP:20260425T203612
CREATED:20240502T194607Z
LAST-MODIFIED:20240502T194607Z
UID:4625-1722582000-1722610800@www.bearlaketownship.org
SUMMARY:Early Voting for Primary Election
DESCRIPTION:
URL:https://www.bearlaketownship.org/event/early-voting-for-primary-election-7
LOCATION:Bear Lake Township Business Office
END:VEVENT
BEGIN:VEVENT
DTSTART;TZID=America/Detroit:20240803T070000
DTEND;TZID=America/Detroit:20240803T150000
DTSTAMP:20260425T203612
CREATED:20240502T194657Z
LAST-MODIFIED:20240502T194657Z
UID:4627-1722668400-1722697200@www.bearlaketownship.org
SUMMARY:Early Voting for Primary Election
DESCRIPTION:
URL:https://www.bearlaketownship.org/event/early-voting-for-primary-election-8
LOCATION:Bear Lake Township Business Office
END:VEVENT
BEGIN:VEVENT
DTSTART;TZID=America/Detroit:20240804T070000
DTEND;TZID=America/Detroit:20240804T150000
DTSTAMP:20260425T203612
CREATED:20240502T194745Z
LAST-MODIFIED:20240518T212235Z
UID:4629-1722754800-1722783600@www.bearlaketownship.org
SUMMARY:Early Voting for Primary Election
DESCRIPTION:
URL:https://www.bearlaketownship.org/event/early-voting-for-primary-election-9
LOCATION:Bear Lake Township Business Office
END:VEVENT
BEGIN:VEVENT
DTSTART;TZID=America/Detroit:20240806T070000
DTEND;TZID=America/Detroit:20240806T200000
DTSTAMP:20260425T203612
CREATED:20240502T194928Z
LAST-MODIFIED:20240502T194928Z
UID:4631-1722927600-1722974400@www.bearlaketownship.org
SUMMARY:Primary Election
DESCRIPTION:
URL:https://www.bearlaketownship.org/event/primary-election-2
LOCATION:Bear Lake Township Business Office
END:VEVENT
BEGIN:VEVENT
DTSTART;TZID=America/Detroit:20240810T083000
DTEND;TZID=America/Detroit:20240810T100000
DTSTAMP:20260425T203612
CREATED:20240515T154240Z
LAST-MODIFIED:20240515T154240Z
UID:4669-1723278600-1723284000@www.bearlaketownship.org
SUMMARY:Bear Lake Township Improvement Association Annual Meeting
DESCRIPTION:More information to follow.
URL:https://www.bearlaketownship.org/event/bear-lake-township-improvement-association-annual-meeting-5
LOCATION:Bear Lake Township Community Center\, 198 E Bear Lake Rd SE\, Kalkaska
END:VEVENT
BEGIN:VEVENT
DTSTART;TZID=America/Detroit:20240813T160000
DTEND;TZID=America/Detroit:20240813T170000
DTSTAMP:20260425T203612
CREATED:20240217T030051Z
LAST-MODIFIED:20240806T210803Z
UID:4501-1723564800-1723568400@www.bearlaketownship.org
SUMMARY:Bear Lake Township Board Meeting
DESCRIPTION:Kevin Rogels\, CEO of Kalkaska Memorial Health Center will be at the Township Board Meeting\, August 13\, 2024\, 4:00 PM to provide information and take questions on the proposal to change Kalkaska Memorial Hospital Center from an Act 47 Hospital (1945)\, to a non profit 501-C3 Hospital.   
URL:https://www.bearlaketownship.org/event/bear-lake-township-board-meeting-16
LOCATION:Bear Lake Township Community Center\, 198 E Bear Lake Rd SE\, Kalkaska
END:VEVENT
END:VCALENDAR