BEGIN:VCALENDAR
VERSION:2.0
PRODID:-//Bear Lake Township of Kalkaska County, Michigan - ECPv6.15.20//NONSGML v1.0//EN
CALSCALE:GREGORIAN
METHOD:PUBLISH
X-ORIGINAL-URL:https://www.bearlaketownship.org
X-WR-CALDESC:Events for Bear Lake Township of Kalkaska County, Michigan
REFRESH-INTERVAL;VALUE=DURATION:PT1H
X-Robots-Tag:noindex
X-PUBLISHED-TTL:PT1H
BEGIN:VTIMEZONE
TZID:America/Detroit
BEGIN:DAYLIGHT
TZOFFSETFROM:-0500
TZOFFSETTO:-0400
TZNAME:EDT
DTSTART:20230312T070000
END:DAYLIGHT
BEGIN:STANDARD
TZOFFSETFROM:-0400
TZOFFSETTO:-0500
TZNAME:EST
DTSTART:20231105T060000
END:STANDARD
BEGIN:DAYLIGHT
TZOFFSETFROM:-0500
TZOFFSETTO:-0400
TZNAME:EDT
DTSTART:20240310T070000
END:DAYLIGHT
BEGIN:STANDARD
TZOFFSETFROM:-0400
TZOFFSETTO:-0500
TZNAME:EST
DTSTART:20241103T060000
END:STANDARD
BEGIN:DAYLIGHT
TZOFFSETFROM:-0500
TZOFFSETTO:-0400
TZNAME:EDT
DTSTART:20250309T070000
END:DAYLIGHT
BEGIN:STANDARD
TZOFFSETFROM:-0400
TZOFFSETTO:-0500
TZNAME:EST
DTSTART:20251102T060000
END:STANDARD
END:VTIMEZONE
BEGIN:VEVENT
DTSTART;TZID=America/Detroit:20241101T070000
DTEND;TZID=America/Detroit:20241101T150000
DTSTAMP:20260425T163520
CREATED:20240502T195419Z
LAST-MODIFIED:20240502T195419Z
UID:4643-1730444400-1730473200@www.bearlaketownship.org
SUMMARY:Early Voting for General Election
DESCRIPTION:
URL:https://www.bearlaketownship.org/event/early-voting-for-general-election-6
LOCATION:Bear Lake Township Business Office
END:VEVENT
BEGIN:VEVENT
DTSTART;TZID=America/Detroit:20241102T070000
DTEND;TZID=America/Detroit:20241102T150000
DTSTAMP:20260425T163520
CREATED:20240502T195755Z
LAST-MODIFIED:20240502T195755Z
UID:4645-1730530800-1730559600@www.bearlaketownship.org
SUMMARY:Early Voting for General Election
DESCRIPTION:
URL:https://www.bearlaketownship.org/event/early-voting-for-general-election-7
LOCATION:Bear Lake Township Business Office
END:VEVENT
BEGIN:VEVENT
DTSTART;TZID=America/Detroit:20241103T070000
DTEND;TZID=America/Detroit:20241103T150000
DTSTAMP:20260425T163520
CREATED:20240502T195833Z
LAST-MODIFIED:20240502T195833Z
UID:4647-1730617200-1730646000@www.bearlaketownship.org
SUMMARY:Early Voting for General Election
DESCRIPTION:
URL:https://www.bearlaketownship.org/event/early-voting-for-general-election-8
LOCATION:Bear Lake Township Business Office
END:VEVENT
BEGIN:VEVENT
DTSTART;TZID=America/Detroit:20241105T070000
DTEND;TZID=America/Detroit:20241105T200000
DTSTAMP:20260425T163520
CREATED:20240502T195929Z
LAST-MODIFIED:20240502T195929Z
UID:4649-1730790000-1730836800@www.bearlaketownship.org
SUMMARY:General Election
DESCRIPTION:
URL:https://www.bearlaketownship.org/event/general-election-2
LOCATION:Bear Lake Township Business Office
END:VEVENT
BEGIN:VEVENT
DTSTART;TZID=America/Detroit:20241112T160000
DTEND;TZID=America/Detroit:20241112T170000
DTSTAMP:20260425T163520
CREATED:20240217T030405Z
LAST-MODIFIED:20240217T030405Z
UID:4507-1731427200-1731430800@www.bearlaketownship.org
SUMMARY:Bear Lake Township Board Meeting
DESCRIPTION:
URL:https://www.bearlaketownship.org/event/bear-lake-township-board-meeting-19
LOCATION:Bear Lake Township Community Center\, 198 E Bear Lake Rd SE\, Kalkaska
END:VEVENT
END:VCALENDAR