BEGIN:VCALENDAR
VERSION:2.0
PRODID:-//Bear Lake Township of Kalkaska County, Michigan - ECPv6.15.20//NONSGML v1.0//EN
CALSCALE:GREGORIAN
METHOD:PUBLISH
X-ORIGINAL-URL:https://www.bearlaketownship.org
X-WR-CALDESC:Events for Bear Lake Township of Kalkaska County, Michigan
REFRESH-INTERVAL;VALUE=DURATION:PT1H
X-Robots-Tag:noindex
X-PUBLISHED-TTL:PT1H
BEGIN:VTIMEZONE
TZID:America/Detroit
BEGIN:DAYLIGHT
TZOFFSETFROM:-0500
TZOFFSETTO:-0400
TZNAME:EDT
DTSTART:20240310T070000
END:DAYLIGHT
BEGIN:STANDARD
TZOFFSETFROM:-0400
TZOFFSETTO:-0500
TZNAME:EST
DTSTART:20241103T060000
END:STANDARD
BEGIN:DAYLIGHT
TZOFFSETFROM:-0500
TZOFFSETTO:-0400
TZNAME:EDT
DTSTART:20250309T070000
END:DAYLIGHT
BEGIN:STANDARD
TZOFFSETFROM:-0400
TZOFFSETTO:-0500
TZNAME:EST
DTSTART:20251102T060000
END:STANDARD
BEGIN:DAYLIGHT
TZOFFSETFROM:-0500
TZOFFSETTO:-0400
TZNAME:EDT
DTSTART:20260308T070000
END:DAYLIGHT
BEGIN:STANDARD
TZOFFSETFROM:-0400
TZOFFSETTO:-0500
TZNAME:EST
DTSTART:20261101T060000
END:STANDARD
END:VTIMEZONE
BEGIN:VEVENT
DTSTART;TZID=America/Detroit:20250304T133000
DTEND;TZID=America/Detroit:20250304T143000
DTSTAMP:20260425T110345
CREATED:20250219T232514Z
LAST-MODIFIED:20250219T232514Z
UID:4886-1741095000-1741098600@www.bearlaketownship.org
SUMMARY:Board of Review Organizational Meeting.
DESCRIPTION:
URL:https://www.bearlaketownship.org/event/board-of-review-organizational-meeting-5
LOCATION:Bear Lake Township Community Center\, 198 E Bear Lake Rd SE\, Kalkaska
END:VEVENT
BEGIN:VEVENT
DTSTART;TZID=America/Detroit:20250310T150000
DTEND;TZID=America/Detroit:20250310T210000
DTSTAMP:20260425T110345
CREATED:20250219T232840Z
LAST-MODIFIED:20250220T115953Z
UID:4888-1741618800-1741640400@www.bearlaketownship.org
SUMMARY:Board of Review - Public Appeals & Protests Meeting
DESCRIPTION:
URL:https://www.bearlaketownship.org/event/board-of-review-public-appeal-meeting-3
LOCATION:Bear Lake Township Community Center\, 198 E Bear Lake Rd SE\, Kalkaska
END:VEVENT
BEGIN:VEVENT
DTSTART;TZID=America/Detroit:20250311T160000
DTEND;TZID=America/Detroit:20250311T170000
DTSTAMP:20260425T110345
CREATED:20240217T030917Z
LAST-MODIFIED:20240217T030917Z
UID:4515-1741708800-1741712400@www.bearlaketownship.org
SUMMARY:Bear Lake Township Board Meeting
DESCRIPTION:
URL:https://www.bearlaketownship.org/event/bear-lake-township-board-meeting-23
LOCATION:Bear Lake Township Community Center\, 198 E Bear Lake Rd SE\, Kalkaska
END:VEVENT
BEGIN:VEVENT
DTSTART;TZID=America/Detroit:20250312T090000
DTEND;TZID=America/Detroit:20250312T150000
DTSTAMP:20260425T110345
CREATED:20250219T233045Z
LAST-MODIFIED:20250220T120057Z
UID:4890-1741770000-1741791600@www.bearlaketownship.org
SUMMARY:Board of Review - Public Appeals & Protests Meeting
DESCRIPTION:
URL:https://www.bearlaketownship.org/event/board-of-review-public-appeal-meeting-4
LOCATION:Bear Lake Township Community Center\, 198 E Bear Lake Rd SE\, Kalkaska
END:VEVENT
BEGIN:VEVENT
DTSTART;TZID=America/Detroit:20250317T090000
DTEND;TZID=America/Detroit:20250317T100000
DTSTAMP:20260425T110345
CREATED:20250220T120756Z
LAST-MODIFIED:20250220T120756Z
UID:4897-1742202000-1742205600@www.bearlaketownship.org
SUMMARY:Special Meeting -  Fire Department Budget Work Meeting.
DESCRIPTION:
URL:https://www.bearlaketownship.org/event/special-meeting-fire-department-budget-work-meeting
LOCATION:Bear Lake Township Community Center\, 198 E Bear Lake Rd SE\, Kalkaska
END:VEVENT
BEGIN:VEVENT
DTSTART;TZID=America/Detroit:20250317T100000
DTEND;TZID=America/Detroit:20250317T110000
DTSTAMP:20260425T110345
CREATED:20250220T120917Z
LAST-MODIFIED:20250220T120918Z
UID:4899-1742205600-1742209200@www.bearlaketownship.org
SUMMARY:Special Meeting - Township Budget Work Meeting.
DESCRIPTION:
URL:https://www.bearlaketownship.org/event/special-meeting-township-budget-work-meeting
LOCATION:Bear Lake Township Community Center\, 198 E Bear Lake Rd SE\, Kalkaska
END:VEVENT
BEGIN:VEVENT
DTSTART;TZID=America/Detroit:20250329T093000
DTEND;TZID=America/Detroit:20250329T100000
DTSTAMP:20260425T110345
CREATED:20250219T231004Z
LAST-MODIFIED:20250220T120240Z
UID:4879-1743240600-1743242400@www.bearlaketownship.org
SUMMARY:Budget Public Hearing
DESCRIPTION:
URL:https://www.bearlaketownship.org/event/annual-board-meetings-budget-public-hearing-2
LOCATION:Bear Lake Township Community Center\, 198 E Bear Lake Rd SE\, Kalkaska
END:VEVENT
BEGIN:VEVENT
DTSTART;TZID=America/Detroit:20250329T100000
DTEND;TZID=America/Detroit:20250329T103000
DTSTAMP:20260425T110345
CREATED:20250219T231205Z
LAST-MODIFIED:20250220T120400Z
UID:4881-1743242400-1743244200@www.bearlaketownship.org
SUMMARY:Township Annual Meeting
DESCRIPTION:
URL:https://www.bearlaketownship.org/event/annual-board-meetings-property-tax-millage-rates
LOCATION:Bear Lake Township Community Center\, 198 E Bear Lake Rd SE\, Kalkaska
END:VEVENT
BEGIN:VEVENT
DTSTART;TZID=America/Detroit:20250329T103000
DTEND;TZID=America/Detroit:20250329T110000
DTSTAMP:20260425T110345
CREATED:20250219T231544Z
LAST-MODIFIED:20250220T120503Z
UID:4883-1743244200-1743246000@www.bearlaketownship.org
SUMMARY:Township Board Special Meeting
DESCRIPTION:
URL:https://www.bearlaketownship.org/event/annual-board-meetings-board-special-meeting-2
LOCATION:Bear Lake Township Community Center\, 198 E Bear Lake Rd SE\, Kalkaska
END:VEVENT
END:VCALENDAR