BEGIN:VCALENDAR
VERSION:2.0
PRODID:-//Bear Lake Township of Kalkaska County, Michigan - ECPv6.15.20//NONSGML v1.0//EN
CALSCALE:GREGORIAN
METHOD:PUBLISH
X-WR-CALNAME:Bear Lake Township of Kalkaska County, Michigan
X-ORIGINAL-URL:https://www.bearlaketownship.org
X-WR-CALDESC:Events for Bear Lake Township of Kalkaska County, Michigan
REFRESH-INTERVAL;VALUE=DURATION:PT1H
X-Robots-Tag:noindex
X-PUBLISHED-TTL:PT1H
BEGIN:VTIMEZONE
TZID:America/Detroit
BEGIN:DAYLIGHT
TZOFFSETFROM:-0500
TZOFFSETTO:-0400
TZNAME:EDT
DTSTART:20240310T070000
END:DAYLIGHT
BEGIN:STANDARD
TZOFFSETFROM:-0400
TZOFFSETTO:-0500
TZNAME:EST
DTSTART:20241103T060000
END:STANDARD
BEGIN:DAYLIGHT
TZOFFSETFROM:-0500
TZOFFSETTO:-0400
TZNAME:EDT
DTSTART:20250309T070000
END:DAYLIGHT
BEGIN:STANDARD
TZOFFSETFROM:-0400
TZOFFSETTO:-0500
TZNAME:EST
DTSTART:20251102T060000
END:STANDARD
BEGIN:DAYLIGHT
TZOFFSETFROM:-0500
TZOFFSETTO:-0400
TZNAME:EDT
DTSTART:20260308T070000
END:DAYLIGHT
BEGIN:STANDARD
TZOFFSETFROM:-0400
TZOFFSETTO:-0500
TZNAME:EST
DTSTART:20261101T060000
END:STANDARD
END:VTIMEZONE
BEGIN:VEVENT
DTSTART;TZID=America/Detroit:20250608T110000
DTEND;TZID=America/Detroit:20250608T140000
DTSTAMP:20260425T064503
CREATED:20250515T121308Z
LAST-MODIFIED:20250515T121308Z
UID:4963-1749380400-1749391200@www.bearlaketownship.org
SUMMARY:Annual Strawberry Social
DESCRIPTION:
URL:https://www.bearlaketownship.org/event/annual-strawberry-social
LOCATION:Kalkaska Memorial Hospital
END:VEVENT
BEGIN:VEVENT
DTSTART;TZID=America/Detroit:20250610T160000
DTEND;TZID=America/Detroit:20250610T170000
DTSTAMP:20260425T064503
CREATED:20250515T121521Z
LAST-MODIFIED:20250515T121521Z
UID:4970-1749571200-1749574800@www.bearlaketownship.org
SUMMARY:Bear Lake Township Board Meeting
DESCRIPTION:
URL:https://www.bearlaketownship.org/event/bear-lake-township-board-meeting-20
LOCATION:Bear Lake Township Community Center\, 198 E Bear Lake Rd SE\, Kalkaska
END:VEVENT
BEGIN:VEVENT
DTSTART;TZID=America/Detroit:20250612T180000
DTEND;TZID=America/Detroit:20250612T200000
DTSTAMP:20260425T064503
CREATED:20250521T145626Z
LAST-MODIFIED:20250521T145626Z
UID:5023-1749751200-1749758400@www.bearlaketownship.org
SUMMARY:Living with Bears and Other Wildlife Presentation
DESCRIPTION:Screenshot
URL:https://www.bearlaketownship.org/event/living-with-bears-and-other-wildlife-presentation
LOCATION:Bear Lake Township Community Center\, 198 E Bear Lake Rd SE\, Kalkaska
END:VEVENT
BEGIN:VEVENT
DTSTART;TZID=America/Detroit:20250614T080000
DTEND;TZID=America/Detroit:20250614T120000
DTSTAMP:20260425T064503
CREATED:20250319T114524Z
LAST-MODIFIED:20250319T114524Z
UID:4916-1749888000-1749902400@www.bearlaketownship.org
SUMMARY:Clean-Up Day @ Blue Bear Trailhead (Please Read Guidelines)
DESCRIPTION:You must bring proof of property ownership with you: the Newsletter\, last property tax bill\, proof of ownership or utility bill\, etc.\n\n\nFirst load is free\, each additional will be $15.00 (a load is considered to be a pickup\, utility trailer or equivalent). \nYou may recycle your old running refrigerators & freezers through Great Lakes Energy for a rebate. Call 1-877-270-3519 to have them picked up at your door. \nACCEPTABLE ITEMS \nLimit of two major appliances – refrigerators and freezers must be tagged “Freon Free”. \nHousehold rubbish\, building materials (nothing over 6′)\, furniture\, mattresses\, chairs\, couches\, carpeting (cut to 6′ in length and tied)\, scrap metal\, etc. \nWe ask that if your are bringing building materials that are accepted\, please secure material in containers or bags for safety and faster unloading.  No loose materials. \nUNACCEPTABLE ITEMS \nHousehold garbage\, tires\, batteries\, hazardous chemicals\, paint\, oil\, explosives\, yard waste\, brush\, asphalt\, broken concrete\, glass\, burn barrels filled with trash\, hot tubs.  NO LOOSE MATERIALS. \nJust a reminder: Workers are volunteers\, so help with whatever you are able\, to make things move quickly.  Thank you.  This is a courtesy to the property owners and to help maintain our woods from debris\, your cooperation is appreciated.  \nYearly Recycle\nBear Lake Township also has 3 recycle bins located at the Community Center for homeowners.  Please observe the signs on what can and cannot be placed in the recycle bins.  Do not discard garbage on leave boxes etc on the ground if they do not fit in the bin.  Someone has to clean that up! Thank you. \n 
URL:https://www.bearlaketownship.org/event/clean-up-day-blue-bear-trailhead-please-read-guidelines-5
LOCATION:Blue Bear Trailhead
END:VEVENT
BEGIN:VEVENT
DTSTART;TZID=America/Detroit:20250628T090000
DTEND;TZID=America/Detroit:20250628T100000
DTSTAMP:20260425T064503
CREATED:20250515T120553Z
LAST-MODIFIED:20250515T120553Z
UID:4959-1751101200-1751104800@www.bearlaketownship.org
SUMMARY:Cub Lake Property Owners Association Annual Meeting
DESCRIPTION:
URL:https://www.bearlaketownship.org/event/cub-lake-property-owners-association-annual-meeting-2
LOCATION:Bear Lake Township Community Center\, 198 E Bear Lake Rd SE\, Kalkaska
END:VEVENT
BEGIN:VEVENT
DTSTART;TZID=America/Detroit:20250628T090000
DTEND;TZID=America/Detroit:20250628T130000
DTSTAMP:20260425T064503
CREATED:20250515T120033Z
LAST-MODIFIED:20250515T120033Z
UID:4955-1751101200-1751115600@www.bearlaketownship.org
SUMMARY:Tire Recycling Collection
DESCRIPTION:Bring us your tires! We’ve put in some overtime to make sure we can continue on the annual tire collection and recycling event that the former Kalkaska County Recycling Center hosted. \nWe’ve reserved two semi-trailers for the event and hope we can fill them both. There are a few stipulations though to make the event a success: \n\n\nFREE to Kalkaska County residents (proof of residency is required). \n\n\nREGISTRATION is recommended to help ensure a smooth traffic flow of the event: RSVP list will go live one month prior to the event. \n\n\nLimit of 10 tires per household. \n\n\nOnly regular car and truck tires will be accepted. \n\n\nNO semi-trailers or tractor tires. \n\n\nNO tires larger than 4 feet tall or 12 inches wide. \n\n\nVolunteer help to load tires will be greatly appreciated! \n\n\nThe event will take place at the former Recycling Center on Saturday\, June 28\, 2025 from 9am to 1pm.
URL:https://www.bearlaketownship.org/event/tire-recycling-collection-5
END:VEVENT
END:VCALENDAR